BEGIN:VCALENDAR
VERSION:2.0
PRODID:-//Lily Haven - ECPv6.15.17.1//NONSGML v1.0//EN
CALSCALE:GREGORIAN
METHOD:PUBLISH
X-ORIGINAL-URL:https://lilyhaven.org
X-WR-CALDESC:Events for Lily Haven
REFRESH-INTERVAL;VALUE=DURATION:PT1H
X-Robots-Tag:noindex
X-PUBLISHED-TTL:PT1H
BEGIN:VTIMEZONE
TZID:America/Chicago
BEGIN:DAYLIGHT
TZOFFSETFROM:-0600
TZOFFSETTO:-0500
TZNAME:CDT
DTSTART:20240310T080000
END:DAYLIGHT
BEGIN:STANDARD
TZOFFSETFROM:-0500
TZOFFSETTO:-0600
TZNAME:CST
DTSTART:20241103T070000
END:STANDARD
BEGIN:DAYLIGHT
TZOFFSETFROM:-0600
TZOFFSETTO:-0500
TZNAME:CDT
DTSTART:20250309T080000
END:DAYLIGHT
BEGIN:STANDARD
TZOFFSETFROM:-0500
TZOFFSETTO:-0600
TZNAME:CST
DTSTART:20251102T070000
END:STANDARD
BEGIN:DAYLIGHT
TZOFFSETFROM:-0600
TZOFFSETTO:-0500
TZNAME:CDT
DTSTART:20260308T080000
END:DAYLIGHT
BEGIN:STANDARD
TZOFFSETFROM:-0500
TZOFFSETTO:-0600
TZNAME:CST
DTSTART:20261101T070000
END:STANDARD
BEGIN:DAYLIGHT
TZOFFSETFROM:-0600
TZOFFSETTO:-0500
TZNAME:CDT
DTSTART:20270314T080000
END:DAYLIGHT
BEGIN:STANDARD
TZOFFSETFROM:-0500
TZOFFSETTO:-0600
TZNAME:CST
DTSTART:20271107T070000
END:STANDARD
END:VTIMEZONE
BEGIN:VEVENT
DTSTART;TZID=America/Chicago:20260404T140000
DTEND;TZID=America/Chicago:20260404T200000
DTSTAMP:20260424T161458
CREATED:20260310T031646Z
LAST-MODIFIED:20260310T031646Z
UID:544543-1775311200-1775332800@lilyhaven.org
SUMMARY:Pickleball for a Purpose
DESCRIPTION:A fundraiser for LILY HAVEN. Grab a partner and a paddle to play for something bigger. This tournament supports LILY HAVEN’s launch campaign to open our residential home for teen girls who have survived human trafficking. \nAll skill levels welcome! \n\n\nTeam Registration is $100 and includes the cost for your team of 2 people and a t-shirt for each player. Get your tickets here!\n\n \nRegistration ends Friday\, 04/03/2026 8:00am CDT
URL:https://lilyhaven.org/event/pickleball-for-a-purpose/
LOCATION:Midwest Pickleball Club\, Midwest Pickleball Club 12125 S 156th St. Suite 101\, Papillion\, NE\, 68138\, United States
ATTACH;FMTTYPE=image/png:https://lilyhaven.org/wp-content/uploads/2026/03/pickleball_1920_x_1080_px_png-1770743494_large.png
ORGANIZER;CN="LILY HAVEN":MAILTO:info@LILYHAVEN.org
END:VEVENT
BEGIN:VEVENT
DTSTART;TZID=America/Chicago:20251120T190000
DTEND;TZID=America/Chicago:20251120T210000
DTSTAMP:20260424T161458
CREATED:20251009T005206Z
LAST-MODIFIED:20251009T005751Z
UID:544509-1763665200-1763672400@lilyhaven.org
SUMMARY:A Storytelling Event To Benefit Lily Haven: A Healing Place for Teenage Trafficking Survivors
DESCRIPTION:Listen to uplifting true stories of overcoming and thanksgiving — shared by Omaha writer Susan Darst Williams. \nEnjoy an inspiring evening filled with heartfelt stories\, delicious dessert bites\, and refreshing beverages — all in support of trafficking victims and others finding hope and healing. \nDonation: $40 in advance | $50 at the door\nSpecial gift for patrons donating $100+ \nSponsored by Stories Coffee Company & The Lily Haven Volunteer Guild
URL:https://lilyhaven.org/event/a-storytelling-event-to-benefit-lily-haven-a-healing-place-for-teenage-trafficking-survivors/
LOCATION:Stories Coffee Co.\, 11432 Davenport St.\, Omaha\, NE\, 68154\, United States
ORGANIZER;CN="LILY HAVEN":MAILTO:info@LILYHAVEN.org
END:VEVENT
BEGIN:VEVENT
DTSTART;TZID=America/Chicago:20251022T170000
DTEND;TZID=America/Chicago:20251022T200000
DTSTAMP:20260424T161458
CREATED:20251009T004008Z
LAST-MODIFIED:20251009T004517Z
UID:544504-1761152400-1761163200@lilyhaven.org
SUMMARY:Voices in Bloom Prosecution Event
DESCRIPTION:Join us for the second installment of the Voices in Bloom series\, an initiative highlighting prevention\, prosecution\, and protection efforts in the fight against human trafficking. \nThis event will spotlight the prosecution side of anti-trafficking work\, featuring insights from Taylor Newton\, Director of Project Harmony’s Missing and Anti-Trafficking Youth Services\, and Sergeant Brett Schrage of the Omaha Police Department. Together\, they will share about the collaborative local efforts underway to hold traffickers accountable and support survivors. \nTickets for the event can be purchased here.
URL:https://lilyhaven.org/event/voices-in-bloom-prosecution-event/
LOCATION:Dvorak Law Group\, 9500 W Dodge Rd Ste. 100\, Omaha\, NE\, 68114\, United States
ORGANIZER;CN="LILY HAVEN":MAILTO:info@LILYHAVEN.org
END:VEVENT
BEGIN:VEVENT
DTSTART;TZID=America/Chicago:20250611T170000
DTEND;TZID=America/Chicago:20250611T193000
DTSTAMP:20260424T161458
CREATED:20250529T022018Z
LAST-MODIFIED:20250529T022623Z
UID:544440-1749661200-1749670200@lilyhaven.org
SUMMARY:Voices in Bloom Prevention Event
DESCRIPTION:Join us on June 11th from 5–7:30 PM for a powerful evening of education\, inspiration\, and impact.\n\n \n\nWe’re honored to welcome Stephanie Olson\, CEO of the Set Me Free Project\, as our featured speaker. She’ll share her expertise on human trafficking and how each of us can play a role in prevention.\n\n \n\nThis is the first event in our Voices in Bloom Speaker Series\, focusing on the 3 pillars of anti-trafficking: Prevention\, Prosecution\, and Protection.\n 
URL:https://lilyhaven.org/event/voices-in-bloom-prevention-event/
LOCATION:Benson Theater\, 6054 Maple St.\, Omaha\, NE\, 68104\, United States
ORGANIZER;CN="LILY HAVEN":MAILTO:info@LILYHAVEN.org
END:VEVENT
BEGIN:VEVENT
DTSTART;TZID=America/Chicago:20250430T170000
DTEND;TZID=America/Chicago:20250430T200000
DTSTAMP:20260424T161458
CREATED:20250406T200755Z
LAST-MODIFIED:20250406T200940Z
UID:44689-1746032400-1746043200@lilyhaven.org
SUMMARY:Lily Haven Kick-Off Party
DESCRIPTION:Come celebrate the launch of Lily Haven and learn about our exciting new program\, connect with community supporters and advocates\, and get a first look at our upcoming Speaker Series. Drop by anytime between 5-8 PM\, with special announcements at 6 PM. We can’t wait to share this journey with you! \nAppetizers & drinks will be served.
URL:https://lilyhaven.org/event/lily-haven-kick-off-party/
LOCATION:Pinnacle Bank Headquarters\, 18081 Burt St\, Elkhorn\, NE\, 68022\, United States
ORGANIZER;CN="LILY HAVEN":MAILTO:info@LILYHAVEN.org
END:VEVENT
END:VCALENDAR